BEGIN:VCALENDAR
VERSION:2.0
PRODID:icalendar-ruby
CALSCALE:GREGORIAN
METHOD:PUBLISH
BEGIN:VEVENT
DTSTAMP:20260426T020029Z
UID:5-407904@columbuscoc.com
DTSTART:20261011T153000Z
DTEND:20261011T163000Z
CLASS:PUBLIC
CREATED:20260425T182703
DESCRIPTION:Sunday Worship
LAST-MODIFIED:20260425T182703
LOCATION:
SUMMARY:Sunday Worship
URL;VALUE=URI:https://www.columbuscoc.com/events/sunday-worship/2026-10-11
END:VEVENT
END:VCALENDAR
