BEGIN:VCALENDAR
VERSION:2.0
PRODID:icalendar-ruby
CALSCALE:GREGORIAN
METHOD:PUBLISH
BEGIN:VEVENT
DTSTAMP:20260425T143947Z
UID:5-406854@columbuscoc.com
DTSTART:20260830T153000Z
DTEND:20260830T163000Z
CLASS:PUBLIC
CREATED:20260425T074129
DESCRIPTION:Sunday Worship
LAST-MODIFIED:20260425T074129
LOCATION:
SUMMARY:Sunday Worship
URL;VALUE=URI:https://www.columbuscoc.com/events/sunday-worship/2026-08-30
END:VEVENT
END:VCALENDAR
