BEGIN:VCALENDAR
VERSION:2.0
PRODID:icalendar-ruby
CALSCALE:GREGORIAN
METHOD:PUBLISH
BEGIN:VEVENT
DTSTAMP:20260424T232319Z
UID:5-406063@columbuscoc.com
DTSTART:20260705T153000Z
DTEND:20260705T163000Z
CLASS:PUBLIC
CREATED:20260424T162044
DESCRIPTION:Sunday Worship
LAST-MODIFIED:20260424T162044
LOCATION:
SUMMARY:Sunday Worship
URL;VALUE=URI:https://www.columbuscoc.com/events/sunday-worship/2026-07-05
END:VEVENT
END:VCALENDAR
